BEGIN:VCALENDAR
VERSION:2.0
PRODID:-//Entry Company - ECPv6.0.1.1//NONSGML v1.0//EN
CALSCALE:GREGORIAN
METHOD:PUBLISH
X-ORIGINAL-URL:https://entry.com.vn
X-WR-CALDESC:Events for Entry Company
REFRESH-INTERVAL;VALUE=DURATION:PT1H
X-Robots-Tag:noindex
X-PUBLISHED-TTL:PT1H
BEGIN:VTIMEZONE
TZID:Asia/Krasnoyarsk
BEGIN:STANDARD
TZOFFSETFROM:+0700
TZOFFSETTO:+0700
TZNAME:+07
DTSTART:20230101T000000
END:STANDARD
END:VTIMEZONE
BEGIN:VEVENT
DTSTART;TZID=Asia/Krasnoyarsk:20231101T150000
DTEND;TZID=Asia/Krasnoyarsk:20250729T000000
DTSTAMP:20260423T054050
CREATED:20140730T173116Z
LAST-MODIFIED:20140730T173116Z
UID:9272-1698850800-1753747200@entry.com.vn
SUMMARY:Tiling Workshop
DESCRIPTION:Event description\n\n	\n	\n	\n\n	\n\n	\n\n\n			\n	\n	\n	\n		\n	Get some super stylish inspiration for making the most of small spaces. Whether you’re all about studio living in the city\, or have a small space in your home that could do with a refresh\, it’s amazing what a clever choice of paint color\, furnishings and decor can do to create a sense of space. \nIt’s easy to think of studio apartments as one big compromise. You can’t buy everything your heart desires\, let along fit it all into the space. But these apartments show that living in one room is enough – you can have everything you need\, and it can come in a stylish package with some carefully chosen decor and smart storage decisions. \n\n	\n\n	\n\n			\n	\n	\n	\n		\n	By the end of this 3-month interactive live online course you will learn how to: \n◎ Use feature furniture\n◎ Try neutral colors with bold prints\n◎ Raise your bed\n◎ Storage in every square inch\n◎ Be clever with your corners\n◎ Double up your decor\n◎ Learn and apply good maintenance practices
URL:https://entry.com.vn/classes/tiling-workshop/
LOCATION:New York Ardesia Bar\, Lexington Avenue\, New York\, NY\, 10022\, United States
CATEGORIES:Cleaning,Design,Engineering,Workshops
ORGANIZER;CN="Michael":MAILTO:junk@vamtam.com
END:VEVENT
END:VCALENDAR