BEGIN:VCALENDAR
VERSION:2.0
PRODID:-//Entry Company - ECPv6.0.1.1//NONSGML v1.0//EN
CALSCALE:GREGORIAN
METHOD:PUBLISH
X-WR-CALNAME:Entry Company
X-ORIGINAL-URL:https://entry.com.vn
X-WR-CALDESC:Events for Entry Company
REFRESH-INTERVAL;VALUE=DURATION:PT1H
X-Robots-Tag:noindex
X-PUBLISHED-TTL:PT1H
BEGIN:VTIMEZONE
TZID:Asia/Krasnoyarsk
BEGIN:STANDARD
TZOFFSETFROM:+0700
TZOFFSETTO:+0700
TZNAME:+07
DTSTART:20220101T000000
END:STANDARD
END:VTIMEZONE
BEGIN:VEVENT
DTSTART;TZID=Asia/Krasnoyarsk:20221101T140000
DTEND;TZID=Asia/Krasnoyarsk:20231031T180000
DTSTAMP:20260423T181143
CREATED:20140730T173401Z
LAST-MODIFIED:20140730T173401Z
UID:9293-1667311200-1698775200@entry.com.vn
SUMMARY:Clany at TechCrunch Disrupt NY
DESCRIPTION:Event description\n\n	\n	\n	\n\n	\n\n	\n\n\n			\n	\n	\n	\n		\n	Get some super stylish inspiration for making the most of small spaces. Whether you’re all about studio living in the city\, or have a small space in your home that could do with a refresh\, it’s amazing what a clever choice of paint color\, furnishings and decor can do to create a sense of space. \nIt’s easy to think of studio apartments as one big compromise. You can’t buy everything your heart desires\, let along fit it all into the space. But these apartments show that living in one room is enough – you can have everything you need\, and it can come in a stylish package with some carefully chosen decor and smart storage decisions. \n\n	\n\n	\n\n			\n	\n	\n	\n		\n	By the end of this 3-month interactive live online course you will learn how to: \n◎ Use feature furniture\n◎ Try neutral colors with bold prints\n◎ Raise your bed\n◎ Storage in every square inch\n◎ Be clever with your corners\n◎ Double up your decor\n◎ Learn and apply good maintenance practices
URL:https://entry.com.vn/classes/clany-at-techcrunch-disrupt-ny/
LOCATION:New York Ardesia Bar\, Lexington Avenue\, New York\, NY\, 10022\, United States
CATEGORIES:Cleaning,Engineering,Workshops
ORGANIZER;CN="Michael":MAILTO:junk@vamtam.com
END:VEVENT
END:VCALENDAR