BEGIN:VCALENDAR
VERSION:2.0
PRODID:-//Entry Company - ECPv6.0.1.1//NONSGML v1.0//EN
CALSCALE:GREGORIAN
METHOD:PUBLISH
X-WR-CALNAME:Entry Company
X-ORIGINAL-URL:https://entry.com.vn
X-WR-CALDESC:Events for Entry Company
REFRESH-INTERVAL;VALUE=DURATION:PT1H
X-Robots-Tag:noindex
X-PUBLISHED-TTL:PT1H
BEGIN:VTIMEZONE
TZID:Asia/Krasnoyarsk
BEGIN:STANDARD
TZOFFSETFROM:+0700
TZOFFSETTO:+0700
TZNAME:+07
DTSTART:20210101T000000
END:STANDARD
END:VTIMEZONE
BEGIN:VEVENT
DTSTART;TZID=Asia/Krasnoyarsk:20221106T150000
DTEND;TZID=Asia/Krasnoyarsk:20230902T000000
DTSTAMP:20260420T160921
CREATED:20140730T173116Z
LAST-MODIFIED:20140730T173116Z
UID:9209-1667746800-1693612800@entry.com.vn
SUMMARY:Clany at Web Summit
DESCRIPTION:Event description\n\n	\n	\n	\n\n\n	\n		\n	It’s easy to get overexcited this time of year and leave your home looking like the tinsel section of a Christmas store. But don’t worry\, this year help is at hand. In this\, the first of our exclusive content series from this course\, get some sleek and sophisticated holiday decoration ideas\, and leave that tinsel back in the drawer where it belongs. \n\n	\n\n	\n\n			\n	\n	\n	\n		\n	\n	\n	Programme structure\n\n	\n	\n	\n\n\n	\n		\n	The module is based around five themes:  \n◎Lighting is everything\n◎Keep the color scheme simple\n◎Simple wreaths inside and out\n◎Use natural foliage and greenery for your table decorations\n◎Go gold!
URL:https://entry.com.vn/classes/clany-at-web-summit/
LOCATION:New York Ardesia Bar\, Lexington Avenue\, New York\, NY\, 10022\, United States
CATEGORIES:Cleaning,Engineering,Management,Workshops
ORGANIZER;CN="Michael":MAILTO:junk@vamtam.com
END:VEVENT
BEGIN:VEVENT
DTSTART;VALUE=DATE:20221101
DTEND;VALUE=DATE:20230504
DTSTAMP:20260420T160921
CREATED:20140730T173401Z
LAST-MODIFIED:20140730T173401Z
UID:9292-1667286000-1683097199@entry.com.vn
SUMMARY:Clean & Stylish Holiday Decoration
DESCRIPTION:Event description\n\n	\n	\n	\n\n\n	\n		\n	It’s easy to get overexcited this time of year and leave your home looking like the tinsel section of a Christmas store. But don’t worry\, this year help is at hand. In this\, the first of our exclusive content series from this course\, get some sleek and sophisticated holiday decoration ideas\, and leave that tinsel back in the drawer where it belongs. \n\n	\n\n	\n\n			\n	\n	\n	\n		\n	\n	\n	Programme structure\n\n	\n	\n	\n\n\n	\n		\n	The module is based around five themes:  \n◎Lighting is everything\n◎Keep the color scheme simple\n◎Simple wreaths inside and out\n◎Use natural foliage and greenery for your table decorations\n◎Go gold!
URL:https://entry.com.vn/classes/clean-stylish-holiday-decoration/
LOCATION:New York Ardesia Bar\, Lexington Avenue\, New York\, NY\, 10022\, United States
CATEGORIES:Commercial,Engineering,Management,Workshops
ORGANIZER;CN="Michael":MAILTO:junk@vamtam.com
END:VEVENT
BEGIN:VEVENT
DTSTART;TZID=Asia/Krasnoyarsk:20211231T150000
DTEND;TZID=Asia/Krasnoyarsk:20230102T000000
DTSTAMP:20260420T160921
CREATED:20140730T173116Z
LAST-MODIFIED:20140730T173116Z
UID:9273-1640962800-1672617600@entry.com.vn
SUMMARY:F.ounders / START NY
DESCRIPTION:Event description\n\n	\n	\n	\n\n\n	\n		\n	It’s easy to get overexcited this time of year and leave your home looking like the tinsel section of a Christmas store. But don’t worry\, this year help is at hand. In this\, the first of our exclusive content series from this course\, get some sleek and sophisticated holiday decoration ideas\, and leave that tinsel back in the drawer where it belongs. \n\n	\n\n	\n\n			\n	\n	\n	\n		\n	\n	\n	Programme structure\n\n	\n	\n	\n\n\n	\n		\n	The module is based around five themes:  \n◎Lighting is everything\n◎Keep the color scheme simple\n◎Simple wreaths inside and out\n◎Use natural foliage and greenery for your table decorations\n◎Go gold!
URL:https://entry.com.vn/classes/f-ounders-start-ny/
LOCATION:New York Ardesia Bar\, Lexington Avenue\, New York\, NY\, 10022\, United States
CATEGORIES:Cleaning,Engineering,Management
ORGANIZER;CN="Michael":MAILTO:junk@vamtam.com
END:VEVENT
END:VCALENDAR