BEGIN:VCALENDAR
VERSION:2.0
PRODID:-//Entry Company - ECPv6.0.1.1//NONSGML v1.0//EN
CALSCALE:GREGORIAN
METHOD:PUBLISH
X-WR-CALNAME:Entry Company
X-ORIGINAL-URL:https://entry.com.vn
X-WR-CALDESC:Events for Entry Company
REFRESH-INTERVAL;VALUE=DURATION:PT1H
X-Robots-Tag:noindex
X-PUBLISHED-TTL:PT1H
BEGIN:VTIMEZONE
TZID:Asia/Krasnoyarsk
BEGIN:STANDARD
TZOFFSETFROM:+0700
TZOFFSETTO:+0700
TZNAME:+07
DTSTART:20230101T000000
END:STANDARD
END:VTIMEZONE
BEGIN:VEVENT
DTSTART;VALUE=DATE:20231111
DTEND;VALUE=DATE:20240213
DTSTAMP:20260422T085851
CREATED:20140730T173401Z
LAST-MODIFIED:20140730T173401Z
UID:8708-1699686000-1707721199@entry.com.vn
SUMMARY:Top 10 Move in Tips
DESCRIPTION:Event description\n\n	\n	\n	\n\n\n	\n		\n	We’ve seen a thing or two when it comes to the cleanliness of homes. Read below to find out the most commonly overlooked areas in the kitchen & learn how to quickly clean them. \n\n	\n\n	\n\n			\n	\n	\n	\n		\n	\n	\n	Programme structure\n\n	\n	\n	\n\n\n	\n		\n	Your Neglected Dish Rack \nSponges \nThe Microwave \nThe Garbage Disposal & Sink Drain
URL:https://entry.com.vn/classes/top-10-move-in-tips/
LOCATION:New York Ardesia Bar\, Lexington Avenue\, New York\, NY\, 10022\, United States
CATEGORIES:Commercial,Design,Engineering
ORGANIZER;CN="Michael":MAILTO:junk@vamtam.com
END:VEVENT
END:VCALENDAR